BEGIN:VCALENDAR
VERSION:2.0
PRODID:-//中野秘密基地　東京中野の古民家コミュニティ - ECPv6.5.1.5//NONSGML v1.0//EN
CALSCALE:GREGORIAN
METHOD:PUBLISH
X-WR-CALNAME:中野秘密基地　東京中野の古民家コミュニティ
X-ORIGINAL-URL:https://himitsukichi.life
X-WR-CALDESC:中野秘密基地　東京中野の古民家コミュニティ のイベント
REFRESH-INTERVAL;VALUE=DURATION:PT1H
X-Robots-Tag:noindex
X-PUBLISHED-TTL:PT1H
BEGIN:VTIMEZONE
TZID:Asia/Tokyo
BEGIN:STANDARD
TZOFFSETFROM:+0900
TZOFFSETTO:+0900
TZNAME:JST
DTSTART:20240101T000000
END:STANDARD
END:VTIMEZONE
BEGIN:VEVENT
DTSTART;TZID=Asia/Tokyo:20250510T130000
DTEND;TZID=Asia/Tokyo:20250510T153000
DTSTAMP:20260426T090701
CREATED:20250507T030809Z
LAST-MODIFIED:20250508T122452Z
UID:1530-1746882000-1746891000@himitsukichi.life
SUMMARY:共に生きる会
DESCRIPTION:共に生きる会 \n5月のゲストはAPFS（特定非営利活動法人　ASIAN PEOPLE’S FRIENDSHIP SOCIETY）の吉田真由美さんです。 \n在日外国人の支援活動の実態などのお話を伺います。 \n５月１０日\n１３：００〜１４：３０　ゲストトーク\n１４：３０〜　休憩\n１５：００〜　交流会 \n参加費 ５００円\n＊その後運営に関わりたい、会を応援したい方は、入会金１０００円 \nおひとりさま、はじめての方でも、安心してご参加できます。\nいろいろな人と出会って一緒に学びましょう！
URL:https://himitsukichi.life/event/%e5%85%b1%e3%81%ab%e7%94%9f%e3%81%8d%e3%82%8b%e4%bc%9a-2/
LOCATION:東京都
CATEGORIES:共に生きる会
END:VEVENT
BEGIN:VEVENT
DTSTART;TZID=Asia/Tokyo:20250504T123000
DTEND;TZID=Asia/Tokyo:20250504T160000
DTSTAMP:20260426T090701
CREATED:20250507T030455Z
LAST-MODIFIED:20250507T030525Z
UID:1524-1746361800-1746374400@himitsukichi.life
SUMMARY:月に一度のけいこさんのカフェ
DESCRIPTION:酒種酵母と国産小麦で作った焼き立てパンのサンドイッチ \nひみつきちコーヒーと六冬舎のコーヒー
URL:https://himitsukichi.life/event/%e6%9c%88%e3%81%ab%e4%b8%80%e5%ba%a6%e3%81%ae%e3%81%91%e3%81%84%e3%81%93%e3%81%95%e3%82%93%e3%81%ae%e3%82%ab%e3%83%95%e3%82%a7-3/
LOCATION:中野秘密基地\, 中野区中野 1-12-6\, 東京都\, 1640001\, 日本
END:VEVENT
BEGIN:VEVENT
DTSTART;VALUE=DATE:20250503
DTEND;VALUE=DATE:20250504
DTSTAMP:20260426T090701
CREATED:20250507T030618Z
LAST-MODIFIED:20250507T030618Z
UID:1526-1746230400-1746316799@himitsukichi.life
SUMMARY:はたけ部　植える日
DESCRIPTION:
URL:https://himitsukichi.life/event/%e3%81%af%e3%81%9f%e3%81%91%e9%83%a8%e3%80%80%e6%a4%8d%e3%81%88%e3%82%8b%e6%97%a5/
LOCATION:東京都
END:VEVENT
BEGIN:VEVENT
DTSTART;VALUE=DATE:20250502
DTEND;VALUE=DATE:20250503
DTSTAMP:20260426T090701
CREATED:20250507T030652Z
LAST-MODIFIED:20250507T030652Z
UID:1528-1746144000-1746230399@himitsukichi.life
SUMMARY:焙煎機テスト導入
DESCRIPTION:
URL:https://himitsukichi.life/event/%e7%84%99%e7%85%8e%e6%a9%9f%e3%83%86%e3%82%b9%e3%83%88%e5%b0%8e%e5%85%a5/
LOCATION:東京都
END:VEVENT
BEGIN:VEVENT
DTSTART;TZID=Asia/Tokyo:20250427T120000
DTEND;TZID=Asia/Tokyo:20250427T150000
DTSTAMP:20260426T090701
CREATED:20250401T222454Z
LAST-MODIFIED:20250402T002837Z
UID:1459-1745755200-1745766000@himitsukichi.life
SUMMARY:たぬどん食堂　自分だけのピザを一緒に作るよ
DESCRIPTION:日時：2025年4月27日 12:00-15:00\n場所：中野秘密基地\nメニュー：作りたて、焼き立てピザ\nイベント：自分だけのピザを一緒に作るよ\nミニフードパントリーどなたでも！（要予約） \n高校生生以下：0円\n大人： 500円\n学生： 300円 \nDate: Apr 27\, 2025\, 12:00-15:00\nLocation: Nakano Secret Base\nMenu: Pizza\nEvent:  Let's Make Pizza together!\n・Food pantry (Please book) \nHow much?\nHigh school students and under: 0 yen\nAdult: 500 yen\nStudent: 300yen
URL:https://himitsukichi.life/event/%e3%81%9f%e3%81%ac%e3%81%a9%e3%82%93%e9%a3%9f%e5%a0%82%e3%80%80%e6%89%8b%e5%b7%bb%e3%81%8d%e5%af%bf%e5%8f%b8%e3%80%80%e3%81%bc%e3%81%9f%e3%82%82%e3%81%a1%e3%80%80%e3%83%af%e3%83%bc%e3%82%af%e3%82%b7/
LOCATION:中野秘密基地\, 中野区中野 1-12-6\, 東京都\, 1640001\, 日本
CATEGORIES:たぬどん食堂
END:VEVENT
BEGIN:VEVENT
DTSTART;TZID=Asia/Tokyo:20250420T130000
DTEND;TZID=Asia/Tokyo:20250420T170000
DTSTAMP:20260426T090701
CREATED:20250401T222035Z
LAST-MODIFIED:20250402T002129Z
UID:1453-1745154000-1745168400@himitsukichi.life
SUMMARY:シェア居間⭐️スキナスキマ
DESCRIPTION:シェア居間⭐️スキナスキマ\n4月20日　１３：００〜１７：００\n参加費：1000円　（学生500円）\nみなさまのご参加お待ちしてます！
URL:https://himitsukichi.life/event/%e3%82%b7%e3%82%a7%e3%82%a2%e5%b1%85%e9%96%93%e2%ad%90%ef%b8%8f%e3%82%b9%e3%82%ad%e3%83%8a%e3%82%b9%e3%82%ad%e3%83%9e-4/
LOCATION:中野秘密基地\, 中野区中野 1-12-6\, 東京都\, 1640001\, 日本
CATEGORIES:スキナスキマ
END:VEVENT
BEGIN:VEVENT
DTSTART;TZID=Asia/Tokyo:20250420T103000
DTEND;TZID=Asia/Tokyo:20250420T233000
DTSTAMP:20260426T090701
CREATED:20250403T024936Z
LAST-MODIFIED:20250411T081814Z
UID:1475-1745145000-1745191800@himitsukichi.life
SUMMARY:セルフ整体たいそうワークショップ
DESCRIPTION:中野秘密基地のからだのせんせい\nゆかちゃんが教えてくれます！ \n中野秘密基地のまりです。 \n疲れていたり、からだが痛かったり\n日常生活では仕方ないなぁって思いがち。 \nわたしも忙しくて、ずっとだるいのをがまんしていたら\n去年病気で手術をすることになってしまいました。 \nそんなときに、ゆかちゃんが野口整体を基本としたからだのメンテナンスをしてくれました。\nあらまびっくり、しばらく笑うこともできなかったのに、心もからだもほぐれて笑うことができるようになりました。 \n別に奇跡とかじゃなくて、ずっと放っておいたからだに気をかけてあげる。\nそれだけでこんなに楽になるんだって実感。 \nなにより、整体をしてもらうことではなく、自分で整えることができる実感を持てたこと。\nそれがいちばんありがたかった。 \n今回はゆかちゃんが、からだの中から悪いものを出して整えるたいそうをしっかり教えてくれます。 \n効きすぎて、たいそうのあとに体がだるくなったりすることもあるけど、それはちゃんと反応してる証拠。\nきっとこれからの健康づくりに役立ちます。 \nご参加お待ちしてます！ \n４月２０日（日）１０：３０ー１１：３０\n参加費　５０００円（中学生以下のお子さまといっしょの方も同じ料金）
URL:https://himitsukichi.life/event/%e3%82%bb%e3%83%ab%e3%83%95%e6%95%b4%e4%bd%93%e3%81%9f%e3%81%84%e3%81%9d%e3%81%86/
LOCATION:東京都
CATEGORIES:ワークショップ
END:VEVENT
BEGIN:VEVENT
DTSTART;TZID=Asia/Tokyo:20250413T123000
DTEND;TZID=Asia/Tokyo:20250413T160000
DTSTAMP:20260426T090701
CREATED:20250401T220535Z
LAST-MODIFIED:20250402T000807Z
UID:1443-1744547400-1744560000@himitsukichi.life
SUMMARY:月に一度のけいこさんのカフェ
DESCRIPTION:酒種酵母と国産小麦で作った焼き立てパンのサンドイッチ \nひみつきちコーヒーと六冬舎のコーヒー \n2025.04.013  12:30-16:00
URL:https://himitsukichi.life/event/%e6%9c%88%e3%81%ab%e4%b8%80%e5%ba%a6%e3%81%ae%e3%81%91%e3%81%84%e3%81%93%e3%81%95%e3%82%93%e3%81%ae%e3%82%ab%e3%83%95%e3%82%a7-2/
LOCATION:中野秘密基地\, 中野区中野 1-12-6\, 東京都\, 1640001\, 日本
END:VEVENT
BEGIN:VEVENT
DTSTART;TZID=Asia/Tokyo:20250412T130000
DTEND;TZID=Asia/Tokyo:20250412T153000
DTSTAMP:20260426T090701
CREATED:20250401T101057Z
LAST-MODIFIED:20250402T001631Z
UID:1447-1744462800-1744471800@himitsukichi.life
SUMMARY:共に生きる会　沖縄の平安名（私）の歴史と現況
DESCRIPTION:共に生きる会主催\n「沖縄の平安名（私）の歴史と現況」\n平安名澄江さんに沖縄のおはなしを聞きます \n日時：2025年4月12日　13時〜15時30分\n参加費：500円（ドリンク代込） \nおひとりさま、はじめての方でも、安心してご参加できます。\nいろいろな人と出会って一緒に学びましょう！ \n予約・お問合せ：\ninfo@himitsukichi.life 、DM、LINEなどでお気軽に \n\n\n\n\n								お問合せ\n							\n\n								フォームでお問い合わせ 下記のフォームにメールアドレスをご記入の上、送信ください。お電話やショートメールでの対応をご希望の場合は、その旨を電話番号と合わせてメッ…							 \n\n							\n																	\n																中野秘密基地　東京中野の古民家コミュニティ
URL:https://himitsukichi.life/event/%e5%85%b1%e3%81%ab%e7%94%9f%e3%81%8d%e3%82%8b%e4%bc%9a%e3%80%80%e6%b2%96%e7%b8%84%e3%81%ae%e5%b9%b3%e5%ae%89%e5%90%8d%ef%bc%88%e7%a7%81%ef%bc%89%e3%81%ae%e6%ad%b4%e5%8f%b2%e3%81%a8%e7%8f%be%e6%b3%81/
LOCATION:東京都
CATEGORIES:共に生きる会
END:VEVENT
BEGIN:VEVENT
DTSTART;TZID=Asia/Tokyo:20250323T120000
DTEND;TZID=Asia/Tokyo:20250323T150000
DTSTAMP:20260426T090701
CREATED:20250304T031524Z
LAST-MODIFIED:20250304T013310Z
UID:1424-1742731200-1742742000@himitsukichi.life
SUMMARY:たぬどん食堂　手巻き寿司　ぼたもち　ワークショップ
DESCRIPTION:日時：2025年3月23日 12:00-15:00\n場所：中野秘密基地\nメニュー：自分でマキマキ手巻き寿司   あっかさんとぼたもちつくるよ！\nイベント：おかむー先生の工作ワークショップ「無限キューブをつくろう」\nミニフードパントリーどなたでも！（要予約） \n高校生生以下：0円\n大人： 500円\n学生： 300円 \nDate: Mar 23\, 2025\, 12:00-15:00\nLocation: Nakano Secret Base\nMenu: Temaki-Sushi\, Botamochi\nEvent: Okamuu Sensei's Craft Workshop: "Let's Make an Infinity Cube"\n・Food pantry (Please book) \nHow much?\nHigh school students and under: 0 yen\nAdult: 500 yen\nStudent: 300yen
URL:https://himitsukichi.life/event/1424/
LOCATION:中野秘密基地\, 中野区中野 1-12-6\, 東京都\, 1640001\, 日本
CATEGORIES:たぬどん食堂
END:VEVENT
BEGIN:VEVENT
DTSTART;VALUE=DATE:20250322
DTEND;VALUE=DATE:20250323
DTSTAMP:20260426T090701
CREATED:20250304T012643Z
LAST-MODIFIED:20250304T012643Z
UID:1430-1742601600-1742687999@himitsukichi.life
SUMMARY:たぬどん食堂準備
DESCRIPTION:
URL:https://himitsukichi.life/event/%e3%81%9f%e3%81%ac%e3%81%a9%e3%82%93%e9%a3%9f%e5%a0%82%e6%ba%96%e5%82%99-8/
LOCATION:中野秘密基地\, 中野区中野 1-12-6\, 東京都\, 1640001\, 日本
END:VEVENT
BEGIN:VEVENT
DTSTART;TZID=Asia/Tokyo:20250316T130000
DTEND;TZID=Asia/Tokyo:20250316T170000
DTSTAMP:20260426T090701
CREATED:20250304T030014Z
LAST-MODIFIED:20250304T011514Z
UID:1418-1742130000-1742144400@himitsukichi.life
SUMMARY:シェア居間⭐️スキナスキマ
DESCRIPTION:シェア居間⭐️スキナスキマ\n３月１６日　１３：００〜１７：００\n参加費：1000円　（学生500円）\nみなさまのご参加お待ちしてます！
URL:https://himitsukichi.life/event/%e3%82%b7%e3%82%a7%e3%82%a2%e5%b1%85%e9%96%93%e2%ad%90%ef%b8%8f%e3%82%b9%e3%82%ad%e3%83%8a%e3%82%b9%e3%82%ad%e3%83%9e-3/
LOCATION:中野秘密基地\, 中野区中野 1-12-6\, 東京都\, 1640001\, 日本
CATEGORIES:スキナスキマ
END:VEVENT
BEGIN:VEVENT
DTSTART;TZID=Asia/Tokyo:20250302T123000
DTEND;TZID=Asia/Tokyo:20250302T160000
DTSTAMP:20260426T090701
CREATED:20250228T222110Z
LAST-MODIFIED:20250304T012450Z
UID:1427-1740918600-1740931200@himitsukichi.life
SUMMARY:月に一度のけいこさんのカフェ
DESCRIPTION:酒種酵母と国産小麦で作った焼き立てパンのサンドイッチ \nひみつきちコーヒーと六冬舎のコーヒー \n2025.03.02 12:30-16:00
URL:https://himitsukichi.life/event/%e6%9c%88%e3%81%ab%e4%b8%80%e5%ba%a6%e3%81%ae%e3%81%91%e3%81%84%e3%81%93%e3%81%95%e3%82%93%e3%81%ae%e3%82%ab%e3%83%95%e3%82%a7/
LOCATION:中野秘密基地\, 中野区中野 1-12-6\, 東京都\, 1640001\, 日本
END:VEVENT
BEGIN:VEVENT
DTSTART;TZID=Asia/Tokyo:20250228T113000
DTEND;TZID=Asia/Tokyo:20250228T140000
DTSTAMP:20260426T090701
CREATED:20250205T032619Z
LAST-MODIFIED:20250206T004910Z
UID:1404-1740742200-1740751200@himitsukichi.life
SUMMARY:ムンさんのおうちのキムチつくってみよう
DESCRIPTION:ムンさんのおうちのキムチのレシピを教えてもらいます！\n日時：2025年2月28日（金） 11:30-14:00\n参加費：1500円\n場所：中野秘密基地\n＊白菜1/6個分おもちかえり付き\n＊当日は最終工程の体験です。白菜の塩漬けなどの準備は数日前に仕込みます。ご希望の方は日程が合えばご参加可能です。 \n 
URL:https://himitsukichi.life/event/%e3%82%ad%e3%83%a0%e3%83%81%e3%81%a4%e3%81%8f%e3%81%a3%e3%81%a6%e3%81%bf%e3%82%88%e3%81%86/
LOCATION:東京都
CATEGORIES:ワークショップ,中野秘密基地イベント
END:VEVENT
BEGIN:VEVENT
DTSTART;TZID=Asia/Tokyo:20250223T120000
DTEND;TZID=Asia/Tokyo:20250223T150000
DTSTAMP:20260426T090701
CREATED:20250128T223342Z
LAST-MODIFIED:20250205T002844Z
UID:1387-1740312000-1740322800@himitsukichi.life
SUMMARY:たぬどん食堂☆たこ焼きつくるよ
DESCRIPTION:日時：2025年2月23日 12:00-15:00\n場所：中野秘密基地\nメニュー：たこ焼きつくろう！　ご飯と豚汁\nイベント：たこせんつくってみよう\nミニフードパントリーどなたでも！（要予約） \n高校生生以下：0円\n大人： 500円\n学生： 300円 \nDate: Feb 23\, 2025\, 12:00-15:00\nLocation: Nakano Secret Base\nMenu: Takoyaki\, Tonjiru+Gohan\nEvent: Making Takosen\n・Food pantry (Please book) \nHow much?\nHigh school students and under: 0 yen\nAdult: 500 yen\nStudent: 300yen
URL:https://himitsukichi.life/event/%e3%81%9f%e3%81%ac%e3%81%a9%e3%82%93%e9%a3%9f%e5%a0%82%e2%98%86%e3%81%9f%e3%81%93%e7%84%bc%e3%81%8d%e3%81%a4%e3%81%8f%e3%82%8b%e3%82%88/
LOCATION:中野秘密基地\, 中野区中野 1-12-6\, 東京都\, 1640001\, 日本
CATEGORIES:たぬどん食堂
END:VEVENT
BEGIN:VEVENT
DTSTART;VALUE=DATE:20250222
DTEND;VALUE=DATE:20250223
DTSTAMP:20260426T090701
CREATED:20250205T032727Z
LAST-MODIFIED:20250205T032727Z
UID:1407-1740182400-1740268799@himitsukichi.life
SUMMARY:たぬどん食堂準備
DESCRIPTION:
URL:https://himitsukichi.life/event/%e3%81%9f%e3%81%ac%e3%81%a9%e3%82%93%e9%a3%9f%e5%a0%82%e6%ba%96%e5%82%99-7/
LOCATION:東京都
END:VEVENT
BEGIN:VEVENT
DTSTART;TZID=Asia/Tokyo:20250216T130000
DTEND;TZID=Asia/Tokyo:20250216T170000
DTSTAMP:20260426T090701
CREATED:20250127T223216Z
LAST-MODIFIED:20250205T002343Z
UID:1385-1739710800-1739725200@himitsukichi.life
SUMMARY:シェア居間⭐️スキナスキマ
DESCRIPTION:シェア居間⭐️スキナスキマ\n２月１６日　１３：００〜１７：００\n参加費：1000円　（学生500円）\nみなさまのご参加お待ちしてます！
URL:https://himitsukichi.life/event/%e3%82%b7%e3%82%a7%e3%82%a2%e5%b1%85%e9%96%93%e2%ad%90%ef%b8%8f%e3%82%b9%e3%82%ad%e3%83%8a%e3%82%b9%e3%82%ad%e3%83%9e-2/
LOCATION:中野秘密基地\, 中野区中野 1-12-6\, 東京都\, 1640001\, 日本
CATEGORIES:スキナスキマ
END:VEVENT
BEGIN:VEVENT
DTSTART;TZID=Asia/Tokyo:20250202T123000
DTEND;TZID=Asia/Tokyo:20250202T160000
DTSTAMP:20260426T090701
CREATED:20250126T223048Z
LAST-MODIFIED:20250129T003203Z
UID:1383-1738499400-1738512000@himitsukichi.life
SUMMARY:カフェの日
DESCRIPTION:
URL:https://himitsukichi.life/event/%e3%82%ab%e3%83%95%e3%82%a7%e3%81%ae%e6%97%a5/
LOCATION:中野秘密基地\, 中野区中野 1-12-6\, 東京都\, 1640001\, 日本
END:VEVENT
BEGIN:VEVENT
DTSTART;TZID=Asia/Tokyo:20250201T120000
DTEND;TZID=Asia/Tokyo:20250201T140000
DTSTAMP:20260426T090701
CREATED:20250128T222906Z
LAST-MODIFIED:20250129T003024Z
UID:1381-1738411200-1738418400@himitsukichi.life
SUMMARY:共に生きる会
DESCRIPTION:
URL:https://himitsukichi.life/event/%e5%85%b1%e3%81%ab%e7%94%9f%e3%81%8d%e3%82%8b%e4%bc%9a/
LOCATION:中野秘密基地\, 中野区中野 1-12-6\, 東京都\, 1640001\, 日本
END:VEVENT
BEGIN:VEVENT
DTSTART;TZID=Asia/Tokyo:20250126T120000
DTEND;TZID=Asia/Tokyo:20250126T150000
DTSTAMP:20260426T090701
CREATED:20241230T022827Z
LAST-MODIFIED:20241230T022911Z
UID:1354-1737892800-1737903600@himitsukichi.life
SUMMARY:たぬどん食堂⭐️クリームシチューと手づくりパン
DESCRIPTION:日時：2025年1月26日 12:00-15:00\n場所：中野秘密基地\nメニュー：ダブルKさんが作る、クリームシチューと手作りパン\nイベント：ひろせんせいの水引きワークショップ、つっくんのワンコインマッサージ\nミニフードパントリーどなたでも！（要予約） \nいくら？\n高校生生以下：0円\n大人： 500円\n学生： 300円
URL:https://himitsukichi.life/event/%e3%81%9f%e3%81%ac%e3%81%a9%e3%82%93%e9%a3%9f%e5%a0%82%e2%ad%90%ef%b8%8f%e3%82%af%e3%83%aa%e3%83%bc%e3%83%a0%e3%82%b7%e3%83%81%e3%83%a5%e3%83%bc%e3%81%a8%e6%89%8b%e3%81%a5%e3%81%8f%e3%82%8a%e3%83%91/
LOCATION:中野秘密基地\, 中野区中野 1-12-6\, 東京都\, 1640001\, 日本
CATEGORIES:たぬどん食堂
END:VEVENT
BEGIN:VEVENT
DTSTART;TZID=Asia/Tokyo:20250119T120000
DTEND;TZID=Asia/Tokyo:20250119T170000
DTSTAMP:20260426T090701
CREATED:20241230T022438Z
LAST-MODIFIED:20250107T023724Z
UID:1351-1737288000-1737306000@himitsukichi.life
SUMMARY:シェア居間⭐️スキナスキマ
DESCRIPTION:今年もやります！　シェア居間⭐️スキナスキマ\n\n１月１９日　１３：００〜１７：００\n参加費：1000円　（学生500円）\nみなさまのご参加お待ちしてます！
URL:https://himitsukichi.life/event/%e3%82%b7%e3%82%a7%e3%82%a2%e5%b1%85%e9%96%93%e2%ad%90%ef%b8%8f%e3%82%b9%e3%82%ad%e3%83%8a%e3%82%b9%e3%82%ad%e3%83%9e/
LOCATION:東京都
CATEGORIES:スキナスキマ
END:VEVENT
BEGIN:VEVENT
DTSTART;TZID=Asia/Tokyo:20250112T123000
DTEND;TZID=Asia/Tokyo:20250112T160000
DTSTAMP:20260426T090701
CREATED:20241230T022251Z
LAST-MODIFIED:20250108T004342Z
UID:1349-1736685000-1736697600@himitsukichi.life
SUMMARY:珈琲とサンドイッチ　CAFE OPEN
DESCRIPTION:珈琲とサンドイッチ ⭐︎ CAFE OPEN\n\n\n2025年１月１２日　12：30 - 16：00\n@中野秘密基地\n\n\n国産小麦と酒種酵母で作ったパンの小さなサンドイッチと\n中野秘密基地の珈琲をお届けします\n\n\nホッとひと息つきに\nぶらりとお越しください
URL:https://himitsukichi.life/event/%e3%82%b3%e3%83%bc%e3%83%92%e3%83%bc%e3%81%a8%e3%83%91%e3%83%b3%ef%bc%88%e4%bb%ae%ef%bc%89/
LOCATION:中野秘密基地\, 中野区中野 1-12-6\, 東京都\, 1640001\, 日本
END:VEVENT
BEGIN:VEVENT
DTSTART;TZID=Asia/Tokyo:20250105T130000
DTEND;TZID=Asia/Tokyo:20250105T160000
DTSTAMP:20260426T090701
CREATED:20241230T022054Z
LAST-MODIFIED:20241230T022054Z
UID:1346-1736082000-1736092800@himitsukichi.life
SUMMARY:ひみつきち新年会
DESCRIPTION:中野秘密基地でゴロゴロお正月過ごしましょう。 \n日時：2025年1月5日 13:00-16:00くらい\n参加費：500円　（子ども0円、学生300円）\n自分の飲み物やおつまみなどできたら持ってきて！ \nフラッとおばあちゃん家に帰るみたいに、ゆるっと遊びに来てください\n待ってまーす。
URL:https://himitsukichi.life/event/%e3%81%b2%e3%81%bf%e3%81%a4%e3%81%8d%e3%81%a1%e6%96%b0%e5%b9%b4%e4%bc%9a/
LOCATION:中野秘密基地\, 中野区中野 1-12-6\, 東京都\, 1640001\, 日本
CATEGORIES:中野秘密基地イベント
END:VEVENT
BEGIN:VEVENT
DTSTART;TZID=Asia/Tokyo:20250104T130000
DTEND;TZID=Asia/Tokyo:20250104T160000
DTSTAMP:20260426T090701
CREATED:20241230T021459Z
LAST-MODIFIED:20241230T021459Z
UID:1344-1735995600-1736006400@himitsukichi.life
SUMMARY:共に生きる会（貸切）
DESCRIPTION:
URL:https://himitsukichi.life/event/%e5%85%b1%e3%81%ab%e7%94%9f%e3%81%8d%e3%82%8b%e4%bc%9a%ef%bc%88%e8%b2%b8%e5%88%87%ef%bc%89/
LOCATION:東京都
CATEGORIES:貸切
END:VEVENT
BEGIN:VEVENT
DTSTART;TZID=Asia/Tokyo:20241222T120000
DTEND;TZID=Asia/Tokyo:20241222T150000
DTSTAMP:20260426T090701
CREATED:20241209T013005Z
LAST-MODIFIED:20241209T003417Z
UID:1335-1734868800-1734879600@himitsukichi.life
SUMMARY:たぬどん食堂 クリスマス会　2024年12月22日
DESCRIPTION:日時：2024年12月22日 12:00-15:00\n場所：中野秘密基地\nメニュー：クリスマスパーティメニュー（チキン、スープ、サラダ、パンなど）\nイベント：プレゼント交換、クリスマスケーキ作り、つっくんのワンコインマッサージ（500円）\nミニフードパントリーどなたでも！（要予約） \nいくら？\n高校生生以下：0円\n大人： 500円\n学生： 300円
URL:https://himitsukichi.life/event/%e3%81%9f%e3%81%ac%e3%81%a9%e3%82%93%e9%a3%9f%e5%a0%82-%e3%82%af%e3%83%aa%e3%82%b9%e3%83%9e%e3%82%b9%e4%bc%9a%e3%80%802024%e5%b9%b412%e6%9c%8822%e6%97%a5/
LOCATION:中野秘密基地\, 中野区中野 1-12-6\, 東京都\, 1640001\, 日本
CATEGORIES:たぬどん食堂
END:VEVENT
BEGIN:VEVENT
DTSTART;VALUE=DATE:20241221
DTEND;VALUE=DATE:20241222
DTSTAMP:20260426T090701
CREATED:20241205T003801Z
LAST-MODIFIED:20241209T003834Z
UID:1340-1734739200-1734825599@himitsukichi.life
SUMMARY:たぬどん食堂準備
DESCRIPTION:
URL:https://himitsukichi.life/event/%e3%81%9f%e3%81%ac%e3%81%a9%e3%82%93%e9%a3%9f%e5%a0%82%e6%ba%96%e5%82%99-6/
LOCATION:東京都
END:VEVENT
BEGIN:VEVENT
DTSTART;VALUE=DATE:20241207
DTEND;VALUE=DATE:20241208
DTSTAMP:20260426T090701
CREATED:20241205T003531Z
LAST-MODIFIED:20241209T003612Z
UID:1338-1733529600-1733615999@himitsukichi.life
SUMMARY:貸切イベント
DESCRIPTION:
URL:https://himitsukichi.life/event/%e8%b2%b8%e5%88%87%e3%82%a4%e3%83%99%e3%83%b3%e3%83%88/
LOCATION:東京都
END:VEVENT
BEGIN:VEVENT
DTSTART;TZID=Asia/Tokyo:20241124T120000
DTEND;TZID=Asia/Tokyo:20241124T150000
DTSTAMP:20260426T090701
CREATED:20241008T023016Z
LAST-MODIFIED:20241109T011837Z
UID:1309-1732449600-1732460400@himitsukichi.life
SUMMARY:たぬどん食堂 山形の芋煮　2024年11月24日
DESCRIPTION:日時：2024年11月24日 12:00-15:00\n場所：中野秘密基地\nメニュー：田村さん監修　山形の芋煮\nイベント：工作ワークショップ・鳥小屋STUDIOおかむー先生「クリスマスボトルカード」\nミニフードパントリーどなたでも！（要予約） \nいくら？\n高校生生以下：0円\n大人： 500円\n学生： 300円
URL:https://himitsukichi.life/event/%e3%81%9f%e3%81%ac%e3%81%a9%e3%82%93%e9%a3%9f%e5%a0%82-5/
LOCATION:中野秘密基地\, 中野区中野 1-12-6\, 東京都\, 1640001\, 日本
CATEGORIES:たぬどん食堂
END:VEVENT
BEGIN:VEVENT
DTSTART;TZID=Asia/Tokyo:20241117T120000
DTEND;TZID=Asia/Tokyo:20241117T170000
DTSTAMP:20260426T090701
CREATED:20241008T023024Z
LAST-MODIFIED:20241109T010439Z
UID:1307-1731844800-1731862800@himitsukichi.life
SUMMARY:『スキナスキマ』シェアイマ・リレーションズ企画 11月17日
DESCRIPTION:中野秘密基地でのんびり過ごそう！\nおしゃべりしてもいい、勉強してもいい、寝ててもいい、遊んでもいいよ。 \n11／17（日）\n13:00 open〜 17:00close\n人数：7〜8名程度（最大10名）\n参加費：1\,500円（ひみつきちコーヒー付き）、ビール販売あります\nご参加連絡、お問い合わせはmessenger\nまたはメールにてお願いします。➡︎ shareima6@gmail.com
URL:https://himitsukichi.life/event/%e3%80%8e%e3%82%b9%e3%82%ad%e3%83%8a%e3%82%b9%e3%82%ad%e3%83%9e%e3%80%8f%e3%82%b7%e3%82%a7%e3%82%a2%e3%82%a4%e3%83%9e%e3%83%bb%e3%83%aa%e3%83%ac%e3%83%bc%e3%82%b7%e3%83%a7%e3%83%b3%e3%82%ba%e4%bc%81-7/
LOCATION:中野秘密基地\, 中野区中野 1-12-6\, 東京都\, 1640001\, 日本
CATEGORIES:スキナスキマ
END:VEVENT
BEGIN:VEVENT
DTSTART;TZID=Asia/Tokyo:20241116T130000
DTEND;TZID=Asia/Tokyo:20241116T170000
DTSTAMP:20260426T090701
CREATED:20240920T235853Z
LAST-MODIFIED:20240921T000026Z
UID:1275-1731762000-1731776400@himitsukichi.life
SUMMARY:中野ひみつの天神川ツアー
DESCRIPTION:中野ひみつの天神川ツアー\n〜暗渠マニアックスと天神川探索〜\n\nかつて、中野サンプラザ付近を源流とし、桃園川へと流れこむ小川がありました。\nその名は天神川。\n今は暗渠（あんきょ）となった この川をたどりながら、あなたの知らない中野を見つけに行きませんか？ \n  \n\n \n中野ひみつの天神川ツアー\n日時：11月16日（土）13:00-17:00　＊小雨決行\n対象：どなたでも参加いただけます\n定員：15名くらい\n参加費：2500円（一般）1500円（学生）\n＊イベント土産「暗渠ドリップバッグコーヒー」付\n（当日現金もしくはpaypay でお願いします） \nイベントスケジュール\n13:00 中野駅北口改札集合\n13:00-15:00 暗渠マニアックス天神川探索\n15:00 中野秘密基地で暗渠マニアックスの中野区の暗渠のおはなし\n17:00 中野秘密基地にて解散 \n暗渠マニアックス（吉村生・髙山英男）\n『暗渠マニアック！』（柏書房）著者、吉村生・髙山英男によるユニット。\n特定暗渠を深掘りする縦軸（吉村）×多数暗渠を俯瞰する横軸（髙山）の役割分担で、日本中の「暗渠目線」を開拓中。\n他の共著に『暗渠パラダイス！』（朝日新聞出版）、『まち歩きが楽しくなる 水路上観察入門』（KADOKAWA）、『「暗橋」で楽しむ東京さんぽ　暗渠にかかる橋から見る街』（実業之日本社）、『暗渠マニアック！増補版』（ちくま文庫）。 \nお申込・お問合せフォーム\nhttps://forms.gle/L8UhF3U5PMhLeKnA9 \nメール（中野秘密基地）\ninfo@himitsukichi.life
URL:https://himitsukichi.life/event/%e4%b8%ad%e9%87%8e%e3%81%b2%e3%81%bf%e3%81%a4%e3%81%ae%e5%a4%a9%e7%a5%9e%e5%b7%9d%e3%83%84%e3%82%a2%e3%83%bc/
LOCATION:中野秘密基地\, 中野区中野 1-12-6\, 東京都\, 1640001\, 日本
CATEGORIES:中野秘密基地イベント
END:VEVENT
END:VCALENDAR