BEGIN:VCALENDAR
VERSION:2.0
PRODID:-//中野秘密基地　東京中野の古民家コミュニティ - ECPv6.5.1.5//NONSGML v1.0//EN
CALSCALE:GREGORIAN
METHOD:PUBLISH
X-ORIGINAL-URL:https://himitsukichi.life
X-WR-CALDESC:中野秘密基地　東京中野の古民家コミュニティ のイベント
REFRESH-INTERVAL;VALUE=DURATION:PT1H
X-Robots-Tag:noindex
X-PUBLISHED-TTL:PT1H
BEGIN:VTIMEZONE
TZID:Asia/Tokyo
BEGIN:STANDARD
TZOFFSETFROM:+0900
TZOFFSETTO:+0900
TZNAME:JST
DTSTART:20260101T000000
END:STANDARD
END:VTIMEZONE
BEGIN:VEVENT
DTSTART;TZID=Asia/Tokyo:20260411T130000
DTEND;TZID=Asia/Tokyo:20260411T153000
DTSTAMP:20260426T091011
CREATED:20260327T040144Z
LAST-MODIFIED:20260327T040806Z
UID:2077-1775912400-1775921400@himitsukichi.life
SUMMARY:【共に生きる会】アイヌ民族の歴史と今を知る
DESCRIPTION:ご近所のおばあちゃんの会「共に生きる会」\n\nアイヌ民族の歴史と今を知る\n今回は、アイヌ民族の歴史と現在について学ぶ会を開催します。\n公益財団法人アイヌ民族文化財団アドバイザーの宇佐美恵美さんをお迎えし、お話をうかがいます。\n日本の中で長く語られてこなかった歴史や、現在の状況について、\nひとりひとりが知り、考えるきっかけになればと思います。 \n■ 開催概要\n日時　2026年4月11日（土）13:00〜15:30 \n場所　中野秘密基地（中野区中野1-12-6） \n参加費　一般：500円、学生：100円 \n■ 当日の流れ\n13:00〜14:30　ゲストトーク \n「アイヌ民族の歴史と現状」公益財団法人アイヌ民族文化財団アドバイザー　宇佐美 恵美さん \n14:30〜　休憩 \n14:45〜　交流会 \n■ こんな方におすすめ\n\nアイヌ民族について知りたい方\n多文化共生に関心のある方\n社会や歴史について学びたい方\nいろいろな人と話してみたい方\n\nはじめての方、おひとりでのご参加も大歓迎です。 \n■ 事前に読んでみたい方へ（推薦図書）\n『アイヌもやもや』\n見えない化されている「わたしたち」と、そこに触れてはいけない気がしてしまう「わたしたち」。\n著：北原モコットゥナシ　漫画：田房永子 \n■ 共に生きる会について\n「共に生きる会」は、2024年10月に発足した会です。\n地域で長く活動してきた方々を中心に、多様な人がゆるやかにつながる場として開催しています。\nゲストのお話をきっかけに、知り、考え、語り合いながら、\n「共に生きる」ことを少しずつ探っています。\n高校生から80代まで、さまざまな世代の方が参加しています。\n特定の思想・政治・宗教を語る場ではありませんので、安心してご参加ください。 \n■ ご予約・お問い合わせ\ninfo@himitsukichi.life \n（お名前・人数をお知らせください） \n  \n\nLiving Together Gathering \nLearning About Ainu History and the Present\nIn this session\, we will explore the history and current situation of the Ainu people.\nWe are honored to welcome Ms. Emi Usami\, an advisor from the Ainu Culture Foundation\, as our guest speaker.\nThrough this talk\, we hope to create an opportunity to learn\, reflect\, and better understand histories and perspectives that have not always been widely shared in Japan. \n\n■ Event Details\nDate & Time \nSaturday\, April 11\, 2026 13:00 – 15:30 \nVenue \nNakano Himitsukichi (1-12-6 Nakano\, Nakano-ku\, Tokyo) \nParticipation Fee \nGeneral: 500 yen  Students: 100 yen \n\n■ Program\n13:00 – 14:30  Guest Talk \n“History and Current Situation of the Ainu People”\nSpeaker: Ms. Emi Usami  Advisor\, The Foundation for Ainu Culture \n14:30 – Break \n14:45 –  Open Discussion & Networking \n\n■ Who Should Join?\n\nAnyone interested in learning about Ainu culture and history\nThose interested in multicultural coexistence\nPeople who enjoy learning about society and history\nAnyone who would like to meet and talk with others\n\nFirst-time participants and solo attendees are very welcome. \n\n■ Recommended Reading (Optional)\n“Ainu Moyamoya” \nWritten by Mokottunasí Kitahara \nIllustrated by Eiko Tabusa \nA book that explores the “unseen” and often unspoken feelings around Ainu identity and society. \n\n■ About “Living Together Gathering”\n“Living Together Gathering” started in October 2024. \nIt is a community space created by people who have long been involved in local activities\, aiming to bring together people from diverse backgrounds. \nThrough guest talks and open conversations\, we create opportunities to learn\, reflect\, and explore what it means to live together. \nParticipants range from high school students to people in their 80s. \nThis is not a space for promoting specific ideologies\, politics\, or religions\, so please feel comfortable joining. \n\n■ Reservation / Contact\ninfo@himitsukichi.life \n(Please let us know your name and number of participants)
URL:https://himitsukichi.life/event/%e3%80%90%e5%85%b1%e3%81%ab%e7%94%9f%e3%81%8d%e3%82%8b%e4%bc%9a%e3%80%91%e6%97%a5%e6%9c%ac%e3%81%ab%e9%95%b7%e3%81%8f%e7%94%9f%e6%b4%bb%e3%81%97%e3%81%a6%e3%81%84%e3%82%8b-%e6%a7%98%e3%80%85-2/
LOCATION:東京都
END:VEVENT
BEGIN:VEVENT
DTSTART;TZID=Asia/Tokyo:20260419T120000
DTEND;TZID=Asia/Tokyo:20260419T160000
DTSTAMP:20260426T091011
CREATED:20260331T215553Z
LAST-MODIFIED:20260401T005641Z
UID:2096-1776600000-1776614400@himitsukichi.life
SUMMARY:シェア居間⭐️スキナスキマ 4月19日
DESCRIPTION:🔸シェア居間スキナスキマ@中野秘密基地\n・4月19日（日） 13:00open〜16:00close \n特にご予約の必要はありませんが、秘密基地だけに場所がわかりづらいです。\n初めてお越しの方はメールでご連絡いただければ、事前に地図をお送りいたします。 \nメール： shareima6@gmail.com
URL:https://himitsukichi.life/event/%e3%82%b7%e3%82%a7%e3%82%a2%e5%b1%85%e9%96%93%e2%ad%90%ef%b8%8f%e3%82%b9%e3%82%ad%e3%83%8a%e3%82%b9%e3%82%ad%e3%83%9e-4%e6%9c%8819%e6%97%a5/
LOCATION:中野秘密基地\, 中野区中野 1-12-6\, 東京都\, 1640001\, 日本
CATEGORIES:スキナスキマ
END:VEVENT
BEGIN:VEVENT
DTSTART;VALUE=DATE:20260425
DTEND;VALUE=DATE:20260426
DTSTAMP:20260426T091011
CREATED:20260401T004459Z
LAST-MODIFIED:20260401T005510Z
UID:2091-1777075200-1777161599@himitsukichi.life
SUMMARY:たぬどん食堂準備
DESCRIPTION:
URL:https://himitsukichi.life/event/%e3%81%9f%e3%81%ac%e3%81%a9%e3%82%93%e9%a3%9f%e5%a0%82%e6%ba%96%e5%82%99-19/
LOCATION:中野秘密基地\, 中野区中野 1-12-6\, 東京都\, 1640001\, 日本
CATEGORIES:たぬどん食堂
END:VEVENT
BEGIN:VEVENT
DTSTART;TZID=Asia/Tokyo:20260426T120000
DTEND;TZID=Asia/Tokyo:20260426T150000
DTSTAMP:20260426T091011
CREATED:20260331T224539Z
LAST-MODIFIED:20260401T005429Z
UID:2093-1777204800-1777215600@himitsukichi.life
SUMMARY:たぬどん食堂「みんなでお好み焼き」＆「おかむ先生のコマ作りワークショップ」
DESCRIPTION:日時：2026年4月26日（日）12:00〜15:00 \n場所：中野秘密基地 \nメニュー：お好み焼き \n工作ワークショップ：おかむ先生と作る「ベイブレード風コマ」 \nミニフードパントリー：どなたでも！（要予約） \n参加費：高校生以下 0円 ／ 大人 500円 ／ 学生 300円 \n\n今月のたぬどん食堂は、みんな大好き【お好み焼き】！🍳 \n一般財団法人お好み焼きアカデミーさまからお好み焼きセットをご寄付いただきました。ありがとうございます！ \n焼きながら、食べながら、おしゃべりしながら。そんなあたたかい時間を一緒に過ごしませんか？ \n食後はおかむ先生と「ベイブレード風コマ」の工作ワークショップも！材料がなくなり次第終了なので、お早めに😊 \nたぬどん食堂は、年齢も国籍も関係なく誰でも参加できる多文化共生こども食堂です。ひとりでもふらっと来てください。毎月メニューやイベントが変わります。次回もお楽しみに！ \n\nDate & Time: Sunday\, April 26\, 2026\, 12:00–3:00 PM \nVenue: Nakano Himitsukichi \nMenu: Okonomiyaki (Japanese savory pancakes) \nCraft Workshop: Make a Beyblade-style spinning top with Okamu-sensei (while supplies last) \nMini Food Pantry: Open to everyone! (Reservation required) \nFee: Free for high school students & under ／ Adults ¥500 ／ Students ¥300 \n\nThis month's menu is okonomiyaki — everyone's favorite savory pancake! 🍳 \nOkonomiyaki sets have been generously donated by the Japan Okonomiyaki Academy Foundation. Thank you so much! \nCook together\, eat together\, chat together. Come join us for a warm and relaxed afternoon! \nAfter the meal\, join Okamu-sensei for a Beyblade-style spinning top workshop! Supplies are limited\, so come early 😊 \nTanudon Shokudo is a multicultural community kitchen open to everyone\, regardless of age or nationality. Feel free to drop in on your own. Menu and events change every month — look forward to what's next!
URL:https://himitsukichi.life/event/%e3%81%9f%e3%81%ac%e3%81%a9%e3%82%93%e9%a3%9f%e5%a0%82%e3%80%8c%e3%81%bf%e3%82%93%e3%81%aa%e3%81%a7%e3%81%8a%e5%a5%bd%e3%81%bf%e7%84%bc%e3%81%8d%e3%80%8d%ef%bc%86%e3%80%8c%e3%81%8a%e3%81%8b%e3%82%80/
LOCATION:中野秘密基地\, 中野区中野 1-12-6\, 東京都\, 1640001\, 日本
CATEGORIES:たぬどん食堂
END:VEVENT
END:VCALENDAR